BEGIN:VCALENDAR
VERSION:2.0
PRODID:-//Samaritan Health Services - ECPv6.15.18//NONSGML v1.0//EN
CALSCALE:GREGORIAN
METHOD:PUBLISH
X-WR-CALNAME:Samaritan Health Services
X-ORIGINAL-URL:https://samhealth.org
X-WR-CALDESC:Events for Samaritan Health Services
REFRESH-INTERVAL;VALUE=DURATION:PT1H
X-Robots-Tag:noindex
X-PUBLISHED-TTL:PT1H
BEGIN:VTIMEZONE
TZID:America/Los_Angeles
BEGIN:DAYLIGHT
TZOFFSETFROM:-0800
TZOFFSETTO:-0700
TZNAME:PDT
DTSTART:20250309T100000
END:DAYLIGHT
BEGIN:STANDARD
TZOFFSETFROM:-0700
TZOFFSETTO:-0800
TZNAME:PST
DTSTART:20251102T090000
END:STANDARD
BEGIN:DAYLIGHT
TZOFFSETFROM:-0800
TZOFFSETTO:-0700
TZNAME:PDT
DTSTART:20260308T100000
END:DAYLIGHT
BEGIN:STANDARD
TZOFFSETFROM:-0700
TZOFFSETTO:-0800
TZNAME:PST
DTSTART:20261101T090000
END:STANDARD
BEGIN:DAYLIGHT
TZOFFSETFROM:-0800
TZOFFSETTO:-0700
TZNAME:PDT
DTSTART:20270314T100000
END:DAYLIGHT
BEGIN:STANDARD
TZOFFSETFROM:-0700
TZOFFSETTO:-0800
TZNAME:PST
DTSTART:20271107T090000
END:STANDARD
END:VTIMEZONE
BEGIN:VEVENT
DTSTART;TZID=America/Los_Angeles:20260121T130000
DTEND;TZID=America/Los_Angeles:20260121T150000
DTSTAMP:20260424T171334
CREATED:20260107T182906Z
LAST-MODIFIED:20260108T153146Z
UID:66091-1769000400-1769007600@samhealth.org
SUMMARY:Transformation Cancer Support Group
DESCRIPTION:The Transformation Cancer Support Group is an 8-week course. Participants will learn mind-body concepts and self-care techniques that have been scientifically proven to enhance quality of life\, build resilience and increase personal well-being during their cancer journey. \nThese techniques empower participants to experience increased well-being\, control and hope in their lives in a safe\, respectful and confidential small group setting. \nWeekly meeting times are Wednesdays\, 1 to 3 p.m. \nAll course dates include: \n\nJan. 21\nJan. 28\nFeb. 4\nFeb. 11\nFeb. 18\nFeb. 25\nMarch 4\nMarch 11\n\nParticipants must be able to use the Zoom virtual meeting platform. \nClass size is limited and registration is required. To register or for questions\, contact J. Anna Looney\, PhD. \nThe Samaritan Cancer Resource Center can be reached at 541-768-2171 or 541-812-5888.
URL:https://samhealth.org/event/transformation-cancer-support-group-2/
LOCATION:Virtual
ATTACH;FMTTYPE=image/jpg:https://samhealth.org/wp-content/uploads/2023/09/Woman-Computer-CO.jpg
END:VEVENT
END:VCALENDAR