BEGIN:VCALENDAR
VERSION:2.0
PRODID:-//Samaritan Health Services - ECPv6.15.18//NONSGML v1.0//EN
CALSCALE:GREGORIAN
METHOD:PUBLISH
X-WR-CALNAME:Samaritan Health Services
X-ORIGINAL-URL:https://samhealth.org
X-WR-CALDESC:Events for Samaritan Health Services
REFRESH-INTERVAL;VALUE=DURATION:PT1H
X-Robots-Tag:noindex
X-PUBLISHED-TTL:PT1H
BEGIN:VTIMEZONE
TZID:America/Los_Angeles
BEGIN:DAYLIGHT
TZOFFSETFROM:-0800
TZOFFSETTO:-0700
TZNAME:PDT
DTSTART:20250309T100000
END:DAYLIGHT
BEGIN:STANDARD
TZOFFSETFROM:-0700
TZOFFSETTO:-0800
TZNAME:PST
DTSTART:20251102T090000
END:STANDARD
BEGIN:DAYLIGHT
TZOFFSETFROM:-0800
TZOFFSETTO:-0700
TZNAME:PDT
DTSTART:20260308T100000
END:DAYLIGHT
BEGIN:STANDARD
TZOFFSETFROM:-0700
TZOFFSETTO:-0800
TZNAME:PST
DTSTART:20261101T090000
END:STANDARD
BEGIN:DAYLIGHT
TZOFFSETFROM:-0800
TZOFFSETTO:-0700
TZNAME:PDT
DTSTART:20270314T100000
END:DAYLIGHT
BEGIN:STANDARD
TZOFFSETFROM:-0700
TZOFFSETTO:-0800
TZNAME:PST
DTSTART:20271107T090000
END:STANDARD
END:VTIMEZONE
BEGIN:VEVENT
DTSTART;TZID=America/Los_Angeles:20260519T110000
DTEND;TZID=America/Los_Angeles:20260519T123000
DTSTAMP:20260423T210356
CREATED:20260422T172356Z
LAST-MODIFIED:20260422T172356Z
UID:71159-1779188400-1779193800@samhealth.org
SUMMARY:Seminar: Finding Peace of Mind in Midst of Chaos
DESCRIPTION:The Finding Peace of Mind in Midst of Chaos seminar is free and will be facilitated by Dean Shrock\, PhD\, who shares his lessons learned about wellness and improving the quality and length of one’s life. He is the author of “Doctor’s Orders: Go Fishing\,” “Why Love Heals” and “Living and Thriving: A Mind-Body-Spirit Program.” \nAt this seminar\, Shrock will discuss how peace provides inner stability and trust in the face of uncertainty. He will show how finding meaning in the midst of chaos can clarify your values\, reorder your priorities and bring peace of mind. \nThe Samaritan Center for Health Education is located just west of Samaritan Pacific Communities Hospital.
URL:https://samhealth.org/event/seminar-finding-peace-of-mind-in-midst-of-chaos/
LOCATION:Samaritan Center for Health Education\, 740 SW Ninth St\, Newport\, Oregon
ATTACH;FMTTYPE=image/jpeg:https://samhealth.org/wp-content/uploads/Peaceful-Woman-CO.jpg
END:VEVENT
END:VCALENDAR