BEGIN:VCALENDAR
VERSION:2.0
PRODID:-//Samaritan Health Services - ECPv6.15.18//NONSGML v1.0//EN
CALSCALE:GREGORIAN
METHOD:PUBLISH
X-WR-CALNAME:Samaritan Health Services
X-ORIGINAL-URL:https://samhealth.org
X-WR-CALDESC:Events for Samaritan Health Services
REFRESH-INTERVAL;VALUE=DURATION:PT1H
X-Robots-Tag:noindex
X-PUBLISHED-TTL:PT1H
BEGIN:VTIMEZONE
TZID:America/Los_Angeles
BEGIN:DAYLIGHT
TZOFFSETFROM:-0800
TZOFFSETTO:-0700
TZNAME:PDT
DTSTART:20240310T100000
END:DAYLIGHT
BEGIN:STANDARD
TZOFFSETFROM:-0700
TZOFFSETTO:-0800
TZNAME:PST
DTSTART:20241103T090000
END:STANDARD
BEGIN:DAYLIGHT
TZOFFSETFROM:-0800
TZOFFSETTO:-0700
TZNAME:PDT
DTSTART:20250309T100000
END:DAYLIGHT
BEGIN:STANDARD
TZOFFSETFROM:-0700
TZOFFSETTO:-0800
TZNAME:PST
DTSTART:20251102T090000
END:STANDARD
BEGIN:DAYLIGHT
TZOFFSETFROM:-0800
TZOFFSETTO:-0700
TZNAME:PDT
DTSTART:20260308T100000
END:DAYLIGHT
BEGIN:STANDARD
TZOFFSETFROM:-0700
TZOFFSETTO:-0800
TZNAME:PST
DTSTART:20261101T090000
END:STANDARD
END:VTIMEZONE
BEGIN:VEVENT
DTSTART;TZID=America/Los_Angeles:20251211T120000
DTEND;TZID=America/Los_Angeles:20251211T130000
DTSTAMP:20260424T201733
CREATED:20251104T234733Z
LAST-MODIFIED:20251104T234733Z
UID:64068-1765454400-1765458000@samhealth.org
SUMMARY:Samaritan & MultiCare Affiliation Town Hall - Virtual
DESCRIPTION:Learn more about Samaritan Health Services’ planned affiliation with MultiCare Health System at this town hall hosted by Samaritan President and CEO Marty Cahill and Samaritan hospital and system leadership. Attendees will hear a detailed presentation about the planned MultiCare affiliation and have the opportunity to ask questions during an open Q&A session.  \nBecause many community members have also expressed interest in learning more about Medicare and Medicare Advantage health plans\, licensed health insurance agents who specialize in Medicare will host informational tables at each in-person event to answer questions before and after the presentations.  \nEvent link provided upon registration.  
URL:https://samhealth.org/event/samaritan-multicare-affiliation-town-hall-virtual/
LOCATION:Virtual
ATTACH;FMTTYPE=image/jpeg:https://samhealth.org/wp-content/uploads/Marty-Cahill-CEO-at-Forum.jpg
END:VEVENT
END:VCALENDAR