BEGIN:VCALENDAR
VERSION:2.0
PRODID:-//Samaritan Health Services - ECPv6.15.18//NONSGML v1.0//EN
CALSCALE:GREGORIAN
METHOD:PUBLISH
X-WR-CALNAME:Samaritan Health Services
X-ORIGINAL-URL:https://samhealth.org
X-WR-CALDESC:Events for Samaritan Health Services
REFRESH-INTERVAL;VALUE=DURATION:PT1H
X-Robots-Tag:noindex
X-PUBLISHED-TTL:PT1H
BEGIN:VTIMEZONE
TZID:America/Los_Angeles
BEGIN:DAYLIGHT
TZOFFSETFROM:-0800
TZOFFSETTO:-0700
TZNAME:PDT
DTSTART:20250309T100000
END:DAYLIGHT
BEGIN:STANDARD
TZOFFSETFROM:-0700
TZOFFSETTO:-0800
TZNAME:PST
DTSTART:20251102T090000
END:STANDARD
BEGIN:DAYLIGHT
TZOFFSETFROM:-0800
TZOFFSETTO:-0700
TZNAME:PDT
DTSTART:20260308T100000
END:DAYLIGHT
BEGIN:STANDARD
TZOFFSETFROM:-0700
TZOFFSETTO:-0800
TZNAME:PST
DTSTART:20261101T090000
END:STANDARD
BEGIN:DAYLIGHT
TZOFFSETFROM:-0800
TZOFFSETTO:-0700
TZNAME:PDT
DTSTART:20270314T100000
END:DAYLIGHT
BEGIN:STANDARD
TZOFFSETFROM:-0700
TZOFFSETTO:-0800
TZNAME:PST
DTSTART:20271107T090000
END:STANDARD
END:VTIMEZONE
BEGIN:VEVENT
DTSTART;TZID=America/Los_Angeles:20260606T100000
DTEND;TZID=America/Los_Angeles:20260606T140000
DTSTAMP:20260424T163043
CREATED:20260112T215421Z
LAST-MODIFIED:20260112T215735Z
UID:10016832-1780740000-1780754400@samhealth.org
SUMMARY:Pregnancy to Baby Class
DESCRIPTION:Pregnancy to baby is a gentle\, supportive\, RN-led class designed to help you and your support person feel confident and prepared for pregnancy\, birth and life with your newborn. \nWhat you’ll learn: \n\nMid-pregnancy changes – Understand your body and feel supported.\nLabor & Birth: Comfort strategies\, birth planning and what to expect for all types of birth —unmedicated\, epidural and C-section.\nBringing Baby Home: Soothing\, diapering\, bathing and safe sleep.\nCaring for New Parents: Recovery\, rest\, mental health and postpartum planning.\nBonus: eBook included for easy reference anytime.\n\nThis class is designed for expectant parents and their chosen support person.
URL:https://samhealth.org/event/pregnancy-to-baby-class/2026-06-06/
LOCATION:Reimer Room – Samaritan Albany General Hospital\, 1046 6th Ave SE\, Albany\, OR\, 97321\, United States
ATTACH;FMTTYPE=image/jpg:https://samhealth.org/wp-content/uploads/2023/09/104pregnantheartfingers-CO.jpg
END:VEVENT
END:VCALENDAR