BEGIN:VCALENDAR
VERSION:2.0
PRODID:-//Samaritan Health Services - ECPv6.15.18//NONSGML v1.0//EN
CALSCALE:GREGORIAN
METHOD:PUBLISH
X-WR-CALNAME:Samaritan Health Services
X-ORIGINAL-URL:https://samhealth.org
X-WR-CALDESC:Events for Samaritan Health Services
REFRESH-INTERVAL;VALUE=DURATION:PT1H
X-Robots-Tag:noindex
X-PUBLISHED-TTL:PT1H
BEGIN:VTIMEZONE
TZID:America/Los_Angeles
BEGIN:DAYLIGHT
TZOFFSETFROM:-0800
TZOFFSETTO:-0700
TZNAME:PDT
DTSTART:20240310T100000
END:DAYLIGHT
BEGIN:STANDARD
TZOFFSETFROM:-0700
TZOFFSETTO:-0800
TZNAME:PST
DTSTART:20241103T090000
END:STANDARD
BEGIN:DAYLIGHT
TZOFFSETFROM:-0800
TZOFFSETTO:-0700
TZNAME:PDT
DTSTART:20250309T100000
END:DAYLIGHT
BEGIN:STANDARD
TZOFFSETFROM:-0700
TZOFFSETTO:-0800
TZNAME:PST
DTSTART:20251102T090000
END:STANDARD
BEGIN:DAYLIGHT
TZOFFSETFROM:-0800
TZOFFSETTO:-0700
TZNAME:PDT
DTSTART:20260308T100000
END:DAYLIGHT
BEGIN:STANDARD
TZOFFSETFROM:-0700
TZOFFSETTO:-0800
TZNAME:PST
DTSTART:20261101T090000
END:STANDARD
END:VTIMEZONE
BEGIN:VEVENT
DTSTART;TZID=America/Los_Angeles:20251217T120000
DTEND;TZID=America/Los_Angeles:20251217T130000
DTSTAMP:20260424T184517
CREATED:20251110T220514Z
LAST-MODIFIED:20251110T220514Z
UID:64448-1765972800-1765976400@samhealth.org
SUMMARY:Postpartum Care
DESCRIPTION:This class will discuss physical changes after birth\, recognizing signs of postpartum hemorrhage and preeclampsia\, and understanding the emotional adjustments of new parenthood. It will also cover perinatal mood and anxiety disorders\, along with lifestyle changes and helpful tips for recovery. \nFor more information\, call 541-812-4301.
URL:https://samhealth.org/event/postpartum-care/
LOCATION:Virtual
ATTACH;FMTTYPE=image/jpg:https://samhealth.org/wp-content/uploads/2023/09/mom-baby-snuggle-320-CO.jpg
END:VEVENT
END:VCALENDAR