BEGIN:VCALENDAR
VERSION:2.0
PRODID:-//Samaritan Health Services - ECPv6.15.18//NONSGML v1.0//EN
CALSCALE:GREGORIAN
METHOD:PUBLISH
X-WR-CALNAME:Samaritan Health Services
X-ORIGINAL-URL:https://samhealth.org
X-WR-CALDESC:Events for Samaritan Health Services
REFRESH-INTERVAL;VALUE=DURATION:PT1H
X-Robots-Tag:noindex
X-PUBLISHED-TTL:PT1H
BEGIN:VTIMEZONE
TZID:America/Los_Angeles
BEGIN:DAYLIGHT
TZOFFSETFROM:-0800
TZOFFSETTO:-0700
TZNAME:PDT
DTSTART:20250309T100000
END:DAYLIGHT
BEGIN:STANDARD
TZOFFSETFROM:-0700
TZOFFSETTO:-0800
TZNAME:PST
DTSTART:20251102T090000
END:STANDARD
BEGIN:DAYLIGHT
TZOFFSETFROM:-0800
TZOFFSETTO:-0700
TZNAME:PDT
DTSTART:20260308T100000
END:DAYLIGHT
BEGIN:STANDARD
TZOFFSETFROM:-0700
TZOFFSETTO:-0800
TZNAME:PST
DTSTART:20261101T090000
END:STANDARD
BEGIN:DAYLIGHT
TZOFFSETFROM:-0800
TZOFFSETTO:-0700
TZNAME:PDT
DTSTART:20270314T100000
END:DAYLIGHT
BEGIN:STANDARD
TZOFFSETFROM:-0700
TZOFFSETTO:-0800
TZNAME:PST
DTSTART:20271107T090000
END:STANDARD
END:VTIMEZONE
BEGIN:VEVENT
DTSTART;TZID=America/Los_Angeles:20260507T153000
DTEND;TZID=America/Los_Angeles:20260507T180000
DTSTAMP:20260419T073344
CREATED:20260417T214855Z
LAST-MODIFIED:20260417T214855Z
UID:71064-1778167800-1778176800@samhealth.org
SUMMARY:Open House & Ribbon Cutting at Samaritan Behavioral Health & Recovery Clinic - Lebanon
DESCRIPTION:All are invited to celebrate the grand opening of Samaritan Behavioral Health & Recovery Clinic – Lebanon with a ribbon cutting ceremony and open house on Thursday\, May 7\, from 3:30 to 6 p.m. The ribbon cutting will take place at 4 p.m. \nThe open house offers an opportunity to tour the clinic\, meet the care teams and learn more about their comprehensive\, integrated services. Light desserts and refreshments will be provided.
URL:https://samhealth.org/event/open-house-ribbon-cutting-at-samaritan-behavioral-health-recovery-clinic-lebanon/
LOCATION:Samaritan Behavioral Health & Recovery Clinic\, 100 Mullins Dr Suite C1\, Lebanon\, 97355\, United States
ATTACH;FMTTYPE=image/jpeg:https://samhealth.org/wp-content/uploads/Behavioral-Health-Recovery-Clinic-Lebanon-CO.jpg
END:VEVENT
END:VCALENDAR