BEGIN:VCALENDAR
VERSION:2.0
PRODID:-//Samaritan Health Services - ECPv6.15.18//NONSGML v1.0//EN
CALSCALE:GREGORIAN
METHOD:PUBLISH
X-WR-CALNAME:Samaritan Health Services
X-ORIGINAL-URL:https://samhealth.org
X-WR-CALDESC:Events for Samaritan Health Services
REFRESH-INTERVAL;VALUE=DURATION:PT1H
X-Robots-Tag:noindex
X-PUBLISHED-TTL:PT1H
BEGIN:VTIMEZONE
TZID:America/Los_Angeles
BEGIN:DAYLIGHT
TZOFFSETFROM:-0800
TZOFFSETTO:-0700
TZNAME:PDT
DTSTART:20240310T100000
END:DAYLIGHT
BEGIN:STANDARD
TZOFFSETFROM:-0700
TZOFFSETTO:-0800
TZNAME:PST
DTSTART:20241103T090000
END:STANDARD
BEGIN:DAYLIGHT
TZOFFSETFROM:-0800
TZOFFSETTO:-0700
TZNAME:PDT
DTSTART:20250309T100000
END:DAYLIGHT
BEGIN:STANDARD
TZOFFSETFROM:-0700
TZOFFSETTO:-0800
TZNAME:PST
DTSTART:20251102T090000
END:STANDARD
BEGIN:DAYLIGHT
TZOFFSETFROM:-0800
TZOFFSETTO:-0700
TZNAME:PDT
DTSTART:20260308T100000
END:DAYLIGHT
BEGIN:STANDARD
TZOFFSETFROM:-0700
TZOFFSETTO:-0800
TZNAME:PST
DTSTART:20261101T090000
END:STANDARD
END:VTIMEZONE
BEGIN:VEVENT
DTSTART;TZID=America/Los_Angeles:20251204T120000
DTEND;TZID=America/Los_Angeles:20251204T130000
DTSTAMP:20260424T201711
CREATED:20251110T212536Z
LAST-MODIFIED:20251110T212826Z
UID:64432-1764849600-1764853200@samhealth.org
SUMMARY:Labor Comfort Techniques
DESCRIPTION:This class will explore how to prepare for labor by understanding your support team and birth preferences. You will learn physical comfort measures\, relaxation and mindfulness techniques\, tips for managing a long labor and various labor positions to promote comfort and progress. \nFor more information\, call 541-812-4301.
URL:https://samhealth.org/event/labor-comfort-techniques/
LOCATION:Virtual
ATTACH;FMTTYPE=image/jpg:https://samhealth.org/wp-content/uploads/2023/09/104pregnantheartfingers-CO.jpg
END:VEVENT
END:VCALENDAR