BEGIN:VCALENDAR
VERSION:2.0
PRODID:-//Samaritan Health Services - ECPv6.15.18//NONSGML v1.0//EN
CALSCALE:GREGORIAN
METHOD:PUBLISH
X-WR-CALNAME:Samaritan Health Services
X-ORIGINAL-URL:https://samhealth.org
X-WR-CALDESC:Events for Samaritan Health Services
REFRESH-INTERVAL;VALUE=DURATION:PT1H
X-Robots-Tag:noindex
X-PUBLISHED-TTL:PT1H
BEGIN:VTIMEZONE
TZID:America/Los_Angeles
BEGIN:DAYLIGHT
TZOFFSETFROM:-0800
TZOFFSETTO:-0700
TZNAME:PDT
DTSTART:20250309T100000
END:DAYLIGHT
BEGIN:STANDARD
TZOFFSETFROM:-0700
TZOFFSETTO:-0800
TZNAME:PST
DTSTART:20251102T090000
END:STANDARD
BEGIN:DAYLIGHT
TZOFFSETFROM:-0800
TZOFFSETTO:-0700
TZNAME:PDT
DTSTART:20260308T100000
END:DAYLIGHT
BEGIN:STANDARD
TZOFFSETFROM:-0700
TZOFFSETTO:-0800
TZNAME:PST
DTSTART:20261101T090000
END:STANDARD
BEGIN:DAYLIGHT
TZOFFSETFROM:-0800
TZOFFSETTO:-0700
TZNAME:PDT
DTSTART:20270314T100000
END:DAYLIGHT
BEGIN:STANDARD
TZOFFSETFROM:-0700
TZOFFSETTO:-0800
TZNAME:PST
DTSTART:20271107T090000
END:STANDARD
END:VTIMEZONE
BEGIN:VEVENT
DTSTART;TZID=America/Los_Angeles:20260323T173000
DTEND;TZID=America/Los_Angeles:20260323T193000
DTSTAMP:20260419T060431
CREATED:20260105T221920Z
LAST-MODIFIED:20260105T222406Z
UID:66005-1774287000-1774294200@samhealth.org
SUMMARY:Childbirth & Newborn Preparation Class - Virtual
DESCRIPTION:This 3-day course helps expectant parents prepare for childbirth and early parenting. \nAll course dates: \n\nMarch 23\nMarch 24\nMarch 25\n\nUsing the Injoy program\, topics include: \n\nWhat to expect during pregnancy\, labor and childbirth.\nMedicated and non-medicated comfort measures.\nMedical interventions associated with complications.\nCesarean birth.\nCare of the birthing parent and infant during the first hours\, days and weeks postpartum.\nBreastfeeding.\nA tour of the birthing center will be offered after the final class.\n\nThis class is for expectant parents in the third trimester. Class sizes are limited and fill quickly\, so register today! \nFor more information or to register\, contact Pollywog at 541-917-4884 or pollywogfamily.org. \nRegistration is required and detailed location information will be provided up registration.
URL:https://samhealth.org/event/childbirth-newborn-preparation-class-virtual-2/
LOCATION:Virtual
ATTACH;FMTTYPE=image/jpg:https://samhealth.org/wp-content/uploads/2023/09/baby-holding-moms-hand-320-CO.jpg
ORGANIZER;CN="Amy Bliege":MAILTO:hopeformotherssupportgroup@samhealth.org
END:VEVENT
END:VCALENDAR