BEGIN:VCALENDAR
VERSION:2.0
PRODID:-//Samaritan Health Services - ECPv6.15.18//NONSGML v1.0//EN
CALSCALE:GREGORIAN
METHOD:PUBLISH
X-WR-CALNAME:Samaritan Health Services
X-ORIGINAL-URL:https://samhealth.org
X-WR-CALDESC:Events for Samaritan Health Services
REFRESH-INTERVAL;VALUE=DURATION:PT1H
X-Robots-Tag:noindex
X-PUBLISHED-TTL:PT1H
BEGIN:VTIMEZONE
TZID:America/Los_Angeles
BEGIN:DAYLIGHT
TZOFFSETFROM:-0800
TZOFFSETTO:-0700
TZNAME:PDT
DTSTART:20240310T100000
END:DAYLIGHT
BEGIN:STANDARD
TZOFFSETFROM:-0700
TZOFFSETTO:-0800
TZNAME:PST
DTSTART:20241103T090000
END:STANDARD
BEGIN:DAYLIGHT
TZOFFSETFROM:-0800
TZOFFSETTO:-0700
TZNAME:PDT
DTSTART:20250309T100000
END:DAYLIGHT
BEGIN:STANDARD
TZOFFSETFROM:-0700
TZOFFSETTO:-0800
TZNAME:PST
DTSTART:20251102T090000
END:STANDARD
BEGIN:DAYLIGHT
TZOFFSETFROM:-0800
TZOFFSETTO:-0700
TZNAME:PDT
DTSTART:20260308T100000
END:DAYLIGHT
BEGIN:STANDARD
TZOFFSETFROM:-0700
TZOFFSETTO:-0800
TZNAME:PST
DTSTART:20261101T090000
END:STANDARD
END:VTIMEZONE
BEGIN:VEVENT
DTSTART;TZID=America/Los_Angeles:20250917T180000
DTEND;TZID=America/Los_Angeles:20250917T203000
DTSTAMP:20260420T092339
CREATED:20241217T221639Z
LAST-MODIFIED:20241217T221639Z
UID:51497-1758132000-1758141000@samhealth.org
SUMMARY:Childbirth & Newborn Preparation Class — Lebanon
DESCRIPTION:This 4-week course helps expectant parents prepare for birth and early parenting. \nAll course dates: \n\nSept. 17.\nSept. 24.\nOct. 1.\nOct. 8.\n\nThis course includes information about pregnancy\, childbirth\, postpartum\, breastfeeding\, newborn care\, car seat safety and oral health. It also includes a tour of the Girod Birth Center and pre-registration. Classes are taught by Samaritan obstetric nurses. \nClasses are offered at the Health Career and Training Center at Samaritan Lebanon Community Hospital as a free service to our community. \nFor more information or to register\, call the Girod Birth Center at 541-451-7136.
URL:https://samhealth.org/event/childbirth-newborn-preparation-class-lebanon-3/
LOCATION:Samaritan Lebanon Community Hospital\, 525 N Santiam Hwy\, Lebanon\, Oregon
ATTACH;FMTTYPE=image/jpg:https://samhealth.org/wp-content/uploads/2023/09/baby-holding-moms-hand-320-CO.jpg
END:VEVENT
END:VCALENDAR