BEGIN:VCALENDAR
VERSION:2.0
PRODID:-//Samaritan Health Services - ECPv6.15.18//NONSGML v1.0//EN
CALSCALE:GREGORIAN
METHOD:PUBLISH
X-WR-CALNAME:Samaritan Health Services
X-ORIGINAL-URL:https://samhealth.org
X-WR-CALDESC:Events for Samaritan Health Services
REFRESH-INTERVAL;VALUE=DURATION:PT1H
X-Robots-Tag:noindex
X-PUBLISHED-TTL:PT1H
BEGIN:VTIMEZONE
TZID:America/Los_Angeles
BEGIN:DAYLIGHT
TZOFFSETFROM:-0800
TZOFFSETTO:-0700
TZNAME:PDT
DTSTART:20250309T100000
END:DAYLIGHT
BEGIN:STANDARD
TZOFFSETFROM:-0700
TZOFFSETTO:-0800
TZNAME:PST
DTSTART:20251102T090000
END:STANDARD
BEGIN:DAYLIGHT
TZOFFSETFROM:-0800
TZOFFSETTO:-0700
TZNAME:PDT
DTSTART:20260308T100000
END:DAYLIGHT
BEGIN:STANDARD
TZOFFSETFROM:-0700
TZOFFSETTO:-0800
TZNAME:PST
DTSTART:20261101T090000
END:STANDARD
BEGIN:DAYLIGHT
TZOFFSETFROM:-0800
TZOFFSETTO:-0700
TZNAME:PDT
DTSTART:20270314T100000
END:DAYLIGHT
BEGIN:STANDARD
TZOFFSETFROM:-0700
TZOFFSETTO:-0800
TZNAME:PST
DTSTART:20271107T090000
END:STANDARD
END:VTIMEZONE
BEGIN:VEVENT
DTSTART;TZID=America/Los_Angeles:20260107T180000
DTEND;TZID=America/Los_Angeles:20260107T203000
DTSTAMP:20260422T231321
CREATED:20260114T174609Z
LAST-MODIFIED:20260114T174609Z
UID:10016647-1767808800-1767817800@samhealth.org
SUMMARY:Birth\, the Newborn & Breastfeeding
DESCRIPTION:This series of classes includes information about pregnancy\, childbirth\, postpartum\, breastfeeding\, newborn care and car seat safety. \nClasses are free\, taught by Samaritan obstetric nurses and take place in the Health Career and Training Center at Samaritan Lebanon Community Hospital. \nFor more information\, call 541-451-7136.
URL:https://samhealth.org/event/birth-the-newborn-breastfeeding/2026-01-07/
LOCATION:Samaritan Lebanon Community Hospital\, 525 N Santiam Hwy\, Lebanon\, Oregon
ATTACH;FMTTYPE=image/jpg:https://samhealth.org/wp-content/uploads/2023/09/mom-baby-snuggle-320-CO.jpg
END:VEVENT
END:VCALENDAR