BEGIN:VCALENDAR
VERSION:2.0
PRODID:-//Samaritan Health Services - ECPv6.15.18//NONSGML v1.0//EN
CALSCALE:GREGORIAN
METHOD:PUBLISH
X-WR-CALNAME:Samaritan Health Services
X-ORIGINAL-URL:https://samhealth.org
X-WR-CALDESC:Events for Samaritan Health Services
REFRESH-INTERVAL;VALUE=DURATION:PT1H
X-Robots-Tag:noindex
X-PUBLISHED-TTL:PT1H
BEGIN:VTIMEZONE
TZID:America/Los_Angeles
BEGIN:DAYLIGHT
TZOFFSETFROM:-0800
TZOFFSETTO:-0700
TZNAME:PDT
DTSTART:20250309T100000
END:DAYLIGHT
BEGIN:STANDARD
TZOFFSETFROM:-0700
TZOFFSETTO:-0800
TZNAME:PST
DTSTART:20251102T090000
END:STANDARD
BEGIN:DAYLIGHT
TZOFFSETFROM:-0800
TZOFFSETTO:-0700
TZNAME:PDT
DTSTART:20260308T100000
END:DAYLIGHT
BEGIN:STANDARD
TZOFFSETFROM:-0700
TZOFFSETTO:-0800
TZNAME:PST
DTSTART:20261101T090000
END:STANDARD
BEGIN:DAYLIGHT
TZOFFSETFROM:-0800
TZOFFSETTO:-0700
TZNAME:PDT
DTSTART:20270314T100000
END:DAYLIGHT
BEGIN:STANDARD
TZOFFSETFROM:-0700
TZOFFSETTO:-0800
TZNAME:PST
DTSTART:20271107T090000
END:STANDARD
END:VTIMEZONE
BEGIN:VEVENT
DTSTART;TZID=America/Los_Angeles:20260309T070000
DTEND;TZID=America/Los_Angeles:20260309T160000
DTSTAMP:20260420T022332
CREATED:20260210T232019Z
LAST-MODIFIED:20260210T233939Z
UID:68547-1773039600-1773072000@samhealth.org
SUMMARY:Auxiliary Leather Sale Event - Lebanon
DESCRIPTION:The Samaritan Lebanon Community Hospital Auxiliary is hosting a leather sale. Shop discounted leather handbags\, wallets\, briefcases and accessories from top brands like Michael Kors\, Coach and Kate Spade. All proceeds will help fund hospital and clinic equipment as well as annual scholarships through the Lebanon Community Hospital Auxiliary. \nAccepted payment methods include Visa\, Mastercard\, American Express and Apple Pay. All sales are final. \nThe event will take place in Conference Room B and is open to the public. \nFor more information\, contact Jill Luke\, volunteer services coordinator\, at jilluke@samhealth.org.
URL:https://samhealth.org/event/auxiliary-leather-sale-event/
LOCATION:Samaritan Lebanon Community Hospital\, 525 N Santiam Hwy\, Lebanon\, Oregon
ATTACH;FMTTYPE=image/jpeg:https://samhealth.org/wp-content/uploads/Leather-sale-CO.jpg
END:VEVENT
END:VCALENDAR