BEGIN:VCALENDAR
VERSION:2.0
PRODID:-//Samaritan Health Services - ECPv6.15.18//NONSGML v1.0//EN
CALSCALE:GREGORIAN
METHOD:PUBLISH
X-WR-CALNAME:Samaritan Health Services
X-ORIGINAL-URL:https://samhealth.org
X-WR-CALDESC:Events for Samaritan Health Services
REFRESH-INTERVAL;VALUE=DURATION:PT1H
X-Robots-Tag:noindex
X-PUBLISHED-TTL:PT1H
BEGIN:VTIMEZONE
TZID:America/Los_Angeles
BEGIN:DAYLIGHT
TZOFFSETFROM:-0800
TZOFFSETTO:-0700
TZNAME:PDT
DTSTART:20240310T100000
END:DAYLIGHT
BEGIN:STANDARD
TZOFFSETFROM:-0700
TZOFFSETTO:-0800
TZNAME:PST
DTSTART:20241103T090000
END:STANDARD
BEGIN:DAYLIGHT
TZOFFSETFROM:-0800
TZOFFSETTO:-0700
TZNAME:PDT
DTSTART:20250309T100000
END:DAYLIGHT
BEGIN:STANDARD
TZOFFSETFROM:-0700
TZOFFSETTO:-0800
TZNAME:PST
DTSTART:20251102T090000
END:STANDARD
BEGIN:DAYLIGHT
TZOFFSETFROM:-0800
TZOFFSETTO:-0700
TZNAME:PDT
DTSTART:20260308T100000
END:DAYLIGHT
BEGIN:STANDARD
TZOFFSETFROM:-0700
TZOFFSETTO:-0800
TZNAME:PST
DTSTART:20261101T090000
END:STANDARD
END:VTIMEZONE
BEGIN:VEVENT
DTSTART;TZID=America/Los_Angeles:20250522T090000
DTEND;TZID=America/Los_Angeles:20250522T120000
DTSTAMP:20260422T121146
CREATED:20250516T173844Z
LAST-MODIFIED:20250516T173844Z
UID:56678-1747904400-1747915200@samhealth.org
SUMMARY:A Community Conversation on Opioid Use Disorder - Albany
DESCRIPTION:Community Conversations is a series of workshops about Opioid Use Disorder\, hosted by the Coast to Cascades Community Wellness Network\, Samaritan Health Services and the UR Medicine Recovery Center of Excellence. \nThis is an opportunity to explore the stigma associated with addiction and learn more about the recovery journey. In this workshop\, we will discuss how our communities can support people with substance use disorders as well as their loved ones\, and how we can work together to reduce the stigma surrounding these disorders. \nThe workshop is free to attend. Refreshments will be provided.
URL:https://samhealth.org/event/a-community-conversation-on-opioid-use-disorder-albany/
LOCATION:CHANCE Recovery\, 231 SE Lyon St.\, Albany\, 97321\, United States
ATTACH;FMTTYPE=image/jpg:https://samhealth.org/wp-content/uploads/2023/09/Group-Discussion-309-CO.jpg
END:VEVENT
END:VCALENDAR